BEGIN:VCALENDAR
VERSION:2.0
PRODID:icalendar-ruby
CALSCALE:GREGORIAN
METHOD:PUBLISH
BEGIN:VEVENT
DTSTAMP:20260422T013620Z
UID:34-1189857@gracebibledracut.com
DTSTART:20260705T133000Z
DTEND:20260705T141500Z
CLASS:PUBLIC
CREATED:20260421T201240
DESCRIPTION:Join us each Sunday morning from 9:30 to 10:15. Our Sunday scho
 ol classes are for ages 4-104. Each class studies God's Word on age-approp
 riate level. 
LAST-MODIFIED:20260421T201240
LOCATION:
SUMMARY:Sunday School
URL;VALUE=URI:https://www.gracebibledracut.com/events/sunday-school--34/202
 6-07-05
ATTACH;FILENAME=tempImage5JrQRQ.jpg;FMTTYPE=image/jpeg:https://dq5pwpg1q8ru
 0.cloudfront.net/2025/03/12/18/40/02/70e2c704-55c6-431f-b103-ea17c4ee2cbd/
 tempImage5JrQRQ.jpg
END:VEVENT
END:VCALENDAR
