BEGIN:VCALENDAR
VERSION:2.0
PRODID:icalendar-ruby
CALSCALE:GREGORIAN
METHOD:PUBLISH
BEGIN:VEVENT
DTSTAMP:20260424T104851Z
UID:7-1195332@gracebibledracut.com
DTSTART:20260927T154500Z
DTEND:20260927T163000Z
CLASS:PUBLIC
CREATED:20260423T214543
DESCRIPTION:Each week following our worship
LAST-MODIFIED:20260423T214543
LOCATION:
SUMMARY:Coffee Fellowship
URL;VALUE=URI:https://www.gracebibledracut.com/events/coffee-fellowship/202
 6-09-27
ATTACH;FILENAME=IMG_7977.JPG;FMTTYPE=image/jpeg:https://dq5pwpg1q8ru0.cloud
 front.net/2025/03/12/18/23/54/bd4d06d1-42dd-4ae2-a2c0-67ff59d5072a/IMG_797
 7.JPG
END:VEVENT
END:VCALENDAR
